BEGIN:VCALENDAR
VERSION:2.0
PRODID:-//hacksw/handcal//NONSGML v1.0//EN
BEGIN:VEVENT
SUMMARY:cours exceptionnel avec Francois Pichereau
UID:e1e46d2e-c52b-4fee-87e3-d376b05bbdbe
DTSTART:20260408T173000Z
DTEND:20260408T183000Z
LOCATION:Localisation   
CATEGORIES:Sportif
STATUS:
URL;VALUE=URI:https://www.etampesaikido.fr/evenements/2026/04/08/cours-exceptionnel-avec-francois-pichereau-2437557
END:VEVENT
END:VCALENDAR
